BEGIN:VCALENDAR
VERSION:2.0
PRODID:spatie/icalendar-generator
DESCRIPTION:Eventi da Scuola IRS per il Sociale
X-WR-CALDESC:Eventi da Scuola IRS per il Sociale
REFRESH-INTERVAL;VALUE=DURATION:PT1440M
X-PUBLISHED-TTL:PT1440M
BEGIN:VTIMEZONE
TZID:Europe/Rome
BEGIN:STANDARD
DTSTART:20251026T030000Z
TZOFFSETFROM:+0200
TZOFFSETTO:+0100
END:STANDARD
BEGIN:DAYLIGHT
DTSTART:20260329T020000Z
TZOFFSETFROM:+0100
TZOFFSETTO:+0200
END:DAYLIGHT
END:VTIMEZONE
BEGIN:VTIMEZONE
TZID:UTC
BEGIN:STANDARD
DTSTART:20250723T144010Z
TZOFFSETFROM:+0000
TZOFFSETTO:+0000
END:STANDARD
END:VTIMEZONE
BEGIN:VEVENT
UID:32-20
DTSTAMP:20260419T144010Z
SUMMARY:IV modulo \"COLLABORAZIONE TRA RETI ANTIVIOLENZA E CUAV\" del perco
 rso formativo \"l'operatore e l'operatrice sociale di fronte alla violenza
 \"
LOCATION:MILANO Sede della Scuola  via Venti Settembre 24  Milano
ORGANIZER;CN=admin:MAILTO:FPICOZZI@IRSONLINE.IT
DTSTART;TZID=Europe/Rome:20260417T000000
DTEND;TZID=Europe/Rome:20260418T010000
X-ALT-DESC;FMTTYPE=TEXT/HTML:
CATEGORIES:CORSO DI FORMAZIONE
URL;VALUE=URI:https://scuolairsperilsociale.it/mc-events/iv-modulo-collabor
 azione-tra-reti-antiviolenza-e-cuav-del-percorso-formativo-loperatore-e-lo
 peratrice-sociale-di-fronte-alla-violenza/
METHOD:PUBLISH
END:VEVENT
END:VCALENDAR