BEGIN:VCALENDAR
VERSION:2.0
PRODID:spatie/icalendar-generator
DESCRIPTION:Eventi da Scuola IRS per il Sociale
X-WR-CALDESC:Eventi da Scuola IRS per il Sociale
REFRESH-INTERVAL;VALUE=DURATION:PT1440M
X-PUBLISHED-TTL:PT1440M
BEGIN:VTIMEZONE
TZID:Europe/Rome
BEGIN:STANDARD
DTSTART:20251026T030000Z
TZOFFSETFROM:+0200
TZOFFSETTO:+0100
END:STANDARD
BEGIN:DAYLIGHT
DTSTART:20260329T020000Z
TZOFFSETFROM:+0100
TZOFFSETTO:+0200
END:DAYLIGHT
BEGIN:STANDARD
DTSTART:20261025T030000Z
TZOFFSETFROM:+0200
TZOFFSETTO:+0100
END:STANDARD
END:VTIMEZONE
BEGIN:VTIMEZONE
TZID:UTC
BEGIN:STANDARD
DTSTART:20250723T190932Z
TZOFFSETFROM:+0000
TZOFFSETTO:+0000
END:STANDARD
END:VTIMEZONE
BEGIN:VEVENT
UID:40-27
DTSTAMP:20260419T190932Z
SUMMARY:II edizione - \"ESSERE COORDINATORE\" - 23 e 24 giugno 2026
LOCATION:MILANO Sede della Scuola  via Venti Settembre 24  Milano
ORGANIZER;CN=admin:MAILTO:FPICOZZI@IRSONLINE.IT
DTSTART;TZID=Europe/Rome:20260623T090000
DTEND;TZID=Europe/Rome:20260623T170000
X-ALT-DESC;FMTTYPE=TEXT/HTML:
CATEGORIES:CORSO DI FORMAZIONE
URL;VALUE=URI:https://scuolairsperilsociale.it/mc-events/ii-edizione-essere
 -coordinatore-23-e-24-giugno-2026/
METHOD:PUBLISH
END:VEVENT
END:VCALENDAR