BEGIN:VCALENDAR
VERSION:2.0
PRODID:spatie/icalendar-generator
DESCRIPTION:Eventi da Scuola IRS per il Sociale
X-WR-CALDESC:Eventi da Scuola IRS per il Sociale
REFRESH-INTERVAL;VALUE=DURATION:PT1440M
X-PUBLISHED-TTL:PT1440M
BEGIN:VTIMEZONE
TZID:Europe/Rome
BEGIN:STANDARD
DTSTART:20251026T030000Z
TZOFFSETFROM:+0200
TZOFFSETTO:+0100
END:STANDARD
BEGIN:DAYLIGHT
DTSTART:20260329T020000Z
TZOFFSETFROM:+0100
TZOFFSETTO:+0200
END:DAYLIGHT
BEGIN:STANDARD
DTSTART:20261025T030000Z
TZOFFSETFROM:+0200
TZOFFSETTO:+0100
END:STANDARD
END:VTIMEZONE
BEGIN:VTIMEZONE
TZID:UTC
BEGIN:STANDARD
DTSTART:20250723T190323Z
TZOFFSETFROM:+0000
TZOFFSETTO:+0000
END:STANDARD
END:VTIMEZONE
BEGIN:VEVENT
UID:33-21
DTSTAMP:20260419T190323Z
SUMMARY:V modulo: APPROCCIO TRANSCULTURALE E CONTRASTO ALLA VIOLENZA DI GEN
 ERE del percorso formativo \"l'operatore e l'operatrice sociale di fronte 
 alla violenza\"
LOCATION:MILANO Sede della Scuola  via Venti Settembre 24  Milano
ORGANIZER;CN=admin:MAILTO:FPICOZZI@IRSONLINE.IT
DTSTART;TZID=Europe/Rome:20260522T000000
DTEND;TZID=Europe/Rome:20260523T010000
X-ALT-DESC;FMTTYPE=TEXT/HTML:
CATEGORIES:CORSO DI FORMAZIONE
URL;VALUE=URI:https://scuolairsperilsociale.it/mc-events/v-modulo-approccio
 -transculturale-e-contrasto-alla-violenza-di-genere-del-percorso-formativo
 -loperatore-e-loperatrice-sociale-di-fronte-alla-violenza/
METHOD:PUBLISH
END:VEVENT
END:VCALENDAR