BEGIN:VCALENDAR
VERSION:2.0
PRODID:spatie/icalendar-generator
DESCRIPTION:Eventi da Scuola IRS per il Sociale
X-WR-CALDESC:Eventi da Scuola IRS per il Sociale
REFRESH-INTERVAL;VALUE=DURATION:PT1440M
X-PUBLISHED-TTL:PT1440M
BEGIN:VTIMEZONE
TZID:Europe/Rome
BEGIN:STANDARD
DTSTART:20251026T030000Z
TZOFFSETFROM:+0200
TZOFFSETTO:+0100
END:STANDARD
BEGIN:DAYLIGHT
DTSTART:20260329T020000Z
TZOFFSETFROM:+0100
TZOFFSETTO:+0200
END:DAYLIGHT
END:VTIMEZONE
BEGIN:VTIMEZONE
TZID:UTC
BEGIN:STANDARD
DTSTART:20250723T143959Z
TZOFFSETFROM:+0000
TZOFFSETTO:+0000
END:STANDARD
END:VTIMEZONE
BEGIN:VEVENT
UID:38-25
DTSTAMP:20260419T143959Z
SUMMARY:WEBINAR DI PRESESENTAZIONE DEL LIBRO \"fare supervisione\". Teorie 
 e pratiche professionali a cura di Ariela Casartelli e Ugo de Ambrogio edi
 to Carocci Faber
LOCATION:ONLINE
ORGANIZER;CN=admin:MAILTO:FPICOZZI@IRSONLINE.IT
DTSTART;TZID=Europe/Rome;VALUE=DATE:20260415
DTEND;TZID=Europe/Rome;VALUE=DATE:20260416
X-ALT-DESC;FMTTYPE=TEXT/HTML:
CATEGORIES:CORSO DI FORMAZIONE
URL;VALUE=URI:https://scuolairsperilsociale.it/mc-events/webinar-di-presese
 ntazione-del-libro-fare-supervisione-teorie-e-pratiche-professionali-a-cur
 a-di-ariela-casartelli-e-ugo-de-ambrogio-edito-carocci-faber/
METHOD:PUBLISH
END:VEVENT
END:VCALENDAR